BEGIN:VCALENDAR
VERSION:2.0
PRODID:-//Norwalk Historical Society Museum  - ECPv6.15.20//NONSGML v1.0//EN
CALSCALE:GREGORIAN
METHOD:PUBLISH
X-ORIGINAL-URL:https://norwalkhistoricalsociety.org
X-WR-CALDESC:Events for Norwalk Historical Society Museum 
REFRESH-INTERVAL;VALUE=DURATION:PT1H
X-Robots-Tag:noindex
X-PUBLISHED-TTL:PT1H
BEGIN:VTIMEZONE
TZID:America/New_York
BEGIN:DAYLIGHT
TZOFFSETFROM:-0500
TZOFFSETTO:-0400
TZNAME:EDT
DTSTART:20250309T070000
END:DAYLIGHT
BEGIN:STANDARD
TZOFFSETFROM:-0400
TZOFFSETTO:-0500
TZNAME:EST
DTSTART:20251102T060000
END:STANDARD
BEGIN:DAYLIGHT
TZOFFSETFROM:-0500
TZOFFSETTO:-0400
TZNAME:EDT
DTSTART:20260308T070000
END:DAYLIGHT
BEGIN:STANDARD
TZOFFSETFROM:-0400
TZOFFSETTO:-0500
TZNAME:EST
DTSTART:20261101T060000
END:STANDARD
BEGIN:DAYLIGHT
TZOFFSETFROM:-0500
TZOFFSETTO:-0400
TZNAME:EDT
DTSTART:20270314T070000
END:DAYLIGHT
BEGIN:STANDARD
TZOFFSETFROM:-0400
TZOFFSETTO:-0500
TZNAME:EST
DTSTART:20271107T060000
END:STANDARD
END:VTIMEZONE
BEGIN:VEVENT
DTSTART;TZID=America/New_York:20260214T000000
DTEND;TZID=America/New_York:20260214T235959
DTSTAMP:20260421T113503
CREATED:20260411T203322Z
LAST-MODIFIED:20260406T162512Z
UID:10001896-1771027200-1771113599@norwalkhistoricalsociety.org
SUMMARY:Norwalk Historical Society Museum Closed
DESCRIPTION:Lecture with historian Mark Albertson:  \nThe Militia’s History and Evolution into the National Guard  \nSunday\, November 9 at 2:00pmNorwalk Town House\, 2 E. Wall Street\, Norwalk 								\n				\n				\n				\n												\n											\n															\n											The Battle of Lexington by William Barnes Wollen\, 1910\n										\n									\n				\n				\n				\n									\n					\n						\n									Reserve a Seat \n					\n					\n				\n								\n				\n				\n				\n									The Norwalk Historical Society presents an insightful lecture with historian Mark Albertson titled “The Militia’s History and Evolution into the National Guard.” \n   Scan to reserve\nAlbertson will delve into the evolution of America’s citizen-soldier tradition\, tracing its roots from the British colonial era through the Seven Years’ War\, the Revolution\, and the creation of the United States Constitution. His talk will illuminate how early experiences and fears of standing armies influenced the Founders’ decision to establish a militia system under state control. This idea endures in today’s National Guard. \nThis is a free event. Click the button or scan the QR code to reserve a seat. \n \n\n \nAbout Mark AlbertsonMark Albertson is a historian and educator specializing in American military and constitutional development. His research draws from both academic and military sources\, offering an accessible yet scholarly perspective on the roots of the U.S. defense system. \nHe is the historical research editor at Army Aviation magazine in Monroe\, Connecticut\, and the historian for the Army Aviation Association of America. Albertson has authored several books: USS Connecticut: Constitution State Battleship; They’ll Have to Follow You! The Triumph of the Great White Fleet; On History: A Treatise. He is at work on a two-volume history of Army Aviation\, Sky Soldiers: The Saga of Army Aviation. He has also published articles in a variety of newspapers and magazines.
URL:https://norwalkhistoricalsociety.org/event/norwalk-museum-closed/2026-02-14/
END:VEVENT
BEGIN:VEVENT
DTSTART;TZID=America/New_York:20260214T140000
DTEND;TZID=America/New_York:20260214T140000
DTSTAMP:20260421T113503
CREATED:20260109T223107Z
LAST-MODIFIED:20260213T191926Z
UID:10001893-1771077600-1771077600@norwalkhistoricalsociety.org
SUMMARY:The Courtship of George Washington and Martha Custis
DESCRIPTION:Lecture with historian Mark Albertson:  \nThe Militia’s History and Evolution into the National Guard  \nSunday\, November 9 at 2:00pmNorwalk Town House\, 2 E. Wall Street\, Norwalk 								\n				\n				\n				\n												\n											\n															\n											The Battle of Lexington by William Barnes Wollen\, 1910\n										\n									\n				\n				\n				\n									\n					\n						\n									Reserve a Seat \n					\n					\n				\n								\n				\n				\n				\n									The Norwalk Historical Society presents an insightful lecture with historian Mark Albertson titled “The Militia’s History and Evolution into the National Guard.” \n   Scan to reserve\nAlbertson will delve into the evolution of America’s citizen-soldier tradition\, tracing its roots from the British colonial era through the Seven Years’ War\, the Revolution\, and the creation of the United States Constitution. His talk will illuminate how early experiences and fears of standing armies influenced the Founders’ decision to establish a militia system under state control. This idea endures in today’s National Guard. \nThis is a free event. Click the button or scan the QR code to reserve a seat. \n \n\n \nAbout Mark AlbertsonMark Albertson is a historian and educator specializing in American military and constitutional development. His research draws from both academic and military sources\, offering an accessible yet scholarly perspective on the roots of the U.S. defense system. \nHe is the historical research editor at Army Aviation magazine in Monroe\, Connecticut\, and the historian for the Army Aviation Association of America. Albertson has authored several books: USS Connecticut: Constitution State Battleship; They’ll Have to Follow You! The Triumph of the Great White Fleet; On History: A Treatise. He is at work on a two-volume history of Army Aviation\, Sky Soldiers: The Saga of Army Aviation. He has also published articles in a variety of newspapers and magazines.
URL:https://norwalkhistoricalsociety.org/event/the-courtship-of-george-washington-and-martha-custis/
END:VEVENT
BEGIN:VEVENT
DTSTART;TZID=America/New_York:20260307T140000
DTEND;TZID=America/New_York:20260307T140000
DTSTAMP:20260421T113503
CREATED:20260110T002052Z
LAST-MODIFIED:20260219T210840Z
UID:10001894-1772892000-1772892000@norwalkhistoricalsociety.org
SUMMARY:History Revealed by Schoolgirl Samplers
DESCRIPTION:Lecture with historian Mark Albertson:  \nThe Militia’s History and Evolution into the National Guard  \nSunday\, November 9 at 2:00pmNorwalk Town House\, 2 E. Wall Street\, Norwalk 								\n				\n				\n				\n												\n											\n															\n											The Battle of Lexington by William Barnes Wollen\, 1910\n										\n									\n				\n				\n				\n									\n					\n						\n									Reserve a Seat \n					\n					\n				\n								\n				\n				\n				\n									The Norwalk Historical Society presents an insightful lecture with historian Mark Albertson titled “The Militia’s History and Evolution into the National Guard.” \n   Scan to reserve\nAlbertson will delve into the evolution of America’s citizen-soldier tradition\, tracing its roots from the British colonial era through the Seven Years’ War\, the Revolution\, and the creation of the United States Constitution. His talk will illuminate how early experiences and fears of standing armies influenced the Founders’ decision to establish a militia system under state control. This idea endures in today’s National Guard. \nThis is a free event. Click the button or scan the QR code to reserve a seat. \n \n\n \nAbout Mark AlbertsonMark Albertson is a historian and educator specializing in American military and constitutional development. His research draws from both academic and military sources\, offering an accessible yet scholarly perspective on the roots of the U.S. defense system. \nHe is the historical research editor at Army Aviation magazine in Monroe\, Connecticut\, and the historian for the Army Aviation Association of America. Albertson has authored several books: USS Connecticut: Constitution State Battleship; They’ll Have to Follow You! The Triumph of the Great White Fleet; On History: A Treatise. He is at work on a two-volume history of Army Aviation\, Sky Soldiers: The Saga of Army Aviation. He has also published articles in a variety of newspapers and magazines.
URL:https://norwalkhistoricalsociety.org/event/history-revealed-by-schoolgirl-samplers/
LOCATION:Mill Hill Historic Park\, 2 East Wall Street\, Norwalk\, CT\, 06851\, United States
GEO:41.1176338;-73.409666
X-APPLE-STRUCTURED-LOCATION;VALUE=URI;X-ADDRESS=Mill Hill Historic Park 2 East Wall Street Norwalk CT 06851 United States;X-APPLE-RADIUS=500;X-TITLE=2 East Wall Street:geo:-73.409666,41.1176338
END:VEVENT
BEGIN:VEVENT
DTSTART;TZID=America/New_York:20260321T140000
DTEND;TZID=America/New_York:20260321T140000
DTSTAMP:20260421T113503
CREATED:20260110T010112Z
LAST-MODIFIED:20260311T165413Z
UID:10001895-1774101600-1774101600@norwalkhistoricalsociety.org
SUMMARY:The 19th Amendment – Women and the Right to Vote
DESCRIPTION:Lecture with historian Mark Albertson:  \nThe Militia’s History and Evolution into the National Guard  \nSunday\, November 9 at 2:00pmNorwalk Town House\, 2 E. Wall Street\, Norwalk 								\n				\n				\n				\n												\n											\n															\n											The Battle of Lexington by William Barnes Wollen\, 1910\n										\n									\n				\n				\n				\n									\n					\n						\n									Reserve a Seat \n					\n					\n				\n								\n				\n				\n				\n									The Norwalk Historical Society presents an insightful lecture with historian Mark Albertson titled “The Militia’s History and Evolution into the National Guard.” \n   Scan to reserve\nAlbertson will delve into the evolution of America’s citizen-soldier tradition\, tracing its roots from the British colonial era through the Seven Years’ War\, the Revolution\, and the creation of the United States Constitution. His talk will illuminate how early experiences and fears of standing armies influenced the Founders’ decision to establish a militia system under state control. This idea endures in today’s National Guard. \nThis is a free event. Click the button or scan the QR code to reserve a seat. \n \n\n \nAbout Mark AlbertsonMark Albertson is a historian and educator specializing in American military and constitutional development. His research draws from both academic and military sources\, offering an accessible yet scholarly perspective on the roots of the U.S. defense system. \nHe is the historical research editor at Army Aviation magazine in Monroe\, Connecticut\, and the historian for the Army Aviation Association of America. Albertson has authored several books: USS Connecticut: Constitution State Battleship; They’ll Have to Follow You! The Triumph of the Great White Fleet; On History: A Treatise. He is at work on a two-volume history of Army Aviation\, Sky Soldiers: The Saga of Army Aviation. He has also published articles in a variety of newspapers and magazines.
URL:https://norwalkhistoricalsociety.org/event/the-19th-amendment-women-and-the-right-to-vote/
END:VEVENT
BEGIN:VEVENT
DTSTART;TZID=America/New_York:20260425T120000
DTEND;TZID=America/New_York:20260425T160000
DTSTAMP:20260421T113503
CREATED:20260406T171546Z
LAST-MODIFIED:20260406T171900Z
UID:10001899-1777118400-1777132800@norwalkhistoricalsociety.org
SUMMARY:Earth Day Festival on the Green
DESCRIPTION:Lecture with historian Mark Albertson:  \nThe Militia’s History and Evolution into the National Guard  \nSunday\, November 9 at 2:00pmNorwalk Town House\, 2 E. Wall Street\, Norwalk 								\n				\n				\n				\n												\n											\n															\n											The Battle of Lexington by William Barnes Wollen\, 1910\n										\n									\n				\n				\n				\n									\n					\n						\n									Reserve a Seat \n					\n					\n				\n								\n				\n				\n				\n									The Norwalk Historical Society presents an insightful lecture with historian Mark Albertson titled “The Militia’s History and Evolution into the National Guard.” \n   Scan to reserve\nAlbertson will delve into the evolution of America’s citizen-soldier tradition\, tracing its roots from the British colonial era through the Seven Years’ War\, the Revolution\, and the creation of the United States Constitution. His talk will illuminate how early experiences and fears of standing armies influenced the Founders’ decision to establish a militia system under state control. This idea endures in today’s National Guard. \nThis is a free event. Click the button or scan the QR code to reserve a seat. \n \n\n \nAbout Mark AlbertsonMark Albertson is a historian and educator specializing in American military and constitutional development. His research draws from both academic and military sources\, offering an accessible yet scholarly perspective on the roots of the U.S. defense system. \nHe is the historical research editor at Army Aviation magazine in Monroe\, Connecticut\, and the historian for the Army Aviation Association of America. Albertson has authored several books: USS Connecticut: Constitution State Battleship; They’ll Have to Follow You! The Triumph of the Great White Fleet; On History: A Treatise. He is at work on a two-volume history of Army Aviation\, Sky Soldiers: The Saga of Army Aviation. He has also published articles in a variety of newspapers and magazines.
URL:https://norwalkhistoricalsociety.org/event/earth-day-festival-on-the-green/
END:VEVENT
END:VCALENDAR