BEGIN:VCALENDAR
VERSION:2.0
PRODID:-//Norwalk Historical Society Museum  - ECPv6.15.20//NONSGML v1.0//EN
CALSCALE:GREGORIAN
METHOD:PUBLISH
X-ORIGINAL-URL:https://norwalkhistoricalsociety.org
X-WR-CALDESC:Events for Norwalk Historical Society Museum 
REFRESH-INTERVAL;VALUE=DURATION:PT1H
X-Robots-Tag:noindex
X-PUBLISHED-TTL:PT1H
BEGIN:VTIMEZONE
TZID:America/New_York
BEGIN:DAYLIGHT
TZOFFSETFROM:-0500
TZOFFSETTO:-0400
TZNAME:EDT
DTSTART:20240310T070000
END:DAYLIGHT
BEGIN:STANDARD
TZOFFSETFROM:-0400
TZOFFSETTO:-0500
TZNAME:EST
DTSTART:20241103T060000
END:STANDARD
BEGIN:DAYLIGHT
TZOFFSETFROM:-0500
TZOFFSETTO:-0400
TZNAME:EDT
DTSTART:20250309T070000
END:DAYLIGHT
BEGIN:STANDARD
TZOFFSETFROM:-0400
TZOFFSETTO:-0500
TZNAME:EST
DTSTART:20251102T060000
END:STANDARD
BEGIN:DAYLIGHT
TZOFFSETFROM:-0500
TZOFFSETTO:-0400
TZNAME:EDT
DTSTART:20260308T070000
END:DAYLIGHT
BEGIN:STANDARD
TZOFFSETFROM:-0400
TZOFFSETTO:-0500
TZNAME:EST
DTSTART:20261101T060000
END:STANDARD
END:VTIMEZONE
BEGIN:VEVENT
DTSTART;TZID=America/New_York:20250704T103000
DTEND;TZID=America/New_York:20250704T120000
DTSTAMP:20260421T101143
CREATED:20240626T181510Z
LAST-MODIFIED:20250627T174238Z
UID:10001871-1751625000-1751630400@norwalkhistoricalsociety.org
SUMMARY:Independence Day Celebration & Bell Ringing Ceremony
DESCRIPTION:Friday\, July 4\, 2025Mill Hill Historic Park\, 2 E. Wall St.\, Norwalk \n\n\n\n10:30am- Mill Hill Open House11:00am- Bell Ringing Ceremony Program \n\n\n\n\n\n\n\n\n\nJoin us for the annual Independence Day Celebration & Bell Ringing Ceremony. Includes: Mill Hill Open House\, singing of the National Anthem\, reading of selected sections of the Declaration of Independence by Norwalk’s Town Clerk\, Rick McQuaid\, and ringing of the Town House bell in recognition of the original 13 colonies. With remarks by Norwalk Mayor Harry Rilling and CT State Senator Bob Duff. Free and open to the public.
URL:https://norwalkhistoricalsociety.org/event/independence-day-celebration-bell-ringing-ceremony/
LOCATION:Mill Hill Historic Park\, 2 East Wall Street\, Norwalk\, CT\, 06851\, United States
CATEGORIES:Entertainment,Museum,Open House,Self-Guided Tour
ATTACH;FMTTYPE=image/jpeg:https://norwalkhistoricalsociety.org/wp-content/uploads/2024/06/american-flag-betsy-ross_72dpi.jpg
GEO:41.1176338;-73.409666
X-APPLE-STRUCTURED-LOCATION;VALUE=URI;X-ADDRESS=Mill Hill Historic Park 2 East Wall Street Norwalk CT 06851 United States;X-APPLE-RADIUS=500;X-TITLE=2 East Wall Street:geo:-73.409666,41.1176338
END:VEVENT
BEGIN:VEVENT
DTSTART;TZID=America/New_York:20250720T140000
DTEND;TZID=America/New_York:20250720T160000
DTSTAMP:20260421T101143
CREATED:20250714T175742Z
LAST-MODIFIED:20250714T180642Z
UID:10001887-1753020000-1753027200@norwalkhistoricalsociety.org
SUMMARY:We Fought at Gettysburg: Program and Book Signing with Carolyn Ivanoff 
DESCRIPTION:We Fought at Gettysburg: \nProgram and Book Signing with Carolyn Ivanoff  \n \n Sunday\, July 20th\, 2:00-4:00pm \nMill Hill Historic Park\, 2 East Wall Street \nHear the stories of the men of Fairfield County and Norwalk at GettysburgCome join the Norwalk Historical Society at Mill Hill Historic Park for an exciting event featuring a talk by renowned author\, Carolyn Ivanoff. Learn about the soldiers of the 17th Connecticut\, the Fairfield County Regiment\, through the Gettysburg campaign in June and July 1863. \nThis was a pivotal moment in American history. They describe what they saw\, thought\, and felt on the battlefield. These are the words of those who lived through the trauma of combat and survived to write about it. Reserve your spot now! \nBooks will be available for purchaseAttendees will have the opportunity to purchase the book and have it signed by the author. Light refreshments will be served following the presentation. \nDon’t miss this chance to connect with Connecticut’s Civil War history and honor the local heroes who marched into one of the defining moments of the American story. \n \nAbout Carolyn IvanoffCarolyn Ivanoff is a retired high school administrator\, author\, and independent historian specializing in 19th-century American history\, with a focus on the Civil War and Connecticut’s historical legacy. \nNamed the American Battlefield Trust’s Teacher of the Year in 2003\, she has received multiple Awards of Merit from the Connecticut League of History Organizations for her educational and preservation work\, including the 2018 rededication of the 17th Connecticut Flagpole at Gettysburg.
URL:https://norwalkhistoricalsociety.org/event/we-fought-at-gettysburg-program-and-book-signing-with-carolyn-ivanoff/
END:VEVENT
BEGIN:VEVENT
DTSTART;TZID=America/New_York:20250731T180000
DTEND;TZID=America/New_York:20250731T210000
DTSTAMP:20260421T101143
CREATED:20250717T220856Z
LAST-MODIFIED:20250717T231240Z
UID:10001888-1753984800-1753995600@norwalkhistoricalsociety.org
SUMMARY:Summer Beer Tasting & BBQ Bites
DESCRIPTION:Summer Beer Tasting and BBQ Biteswith Beer Expert Gregg Glaser Thursday\, July 31st at 6:00pm\, Mill Hill Historic Park\n \nTickets – Online: $35\, At the Door: $45\n  		\n																														\n		\n\n \nJoin the Norwalk Historical Society for an unforgettable evening of history\, flavor\, and fun at “Summer Beer Tasting & BBQ Bites” on Thursday\, July 31\, 2025\, at 6:00 PM\, at the historic Mill Hill Historic Park – Town House Museum\, 2 East Wall Street\, Norwalk\, CT\, located at the head of the Norwalk harbor and steps away from the Norwalk Green. \n\n \nGregg Glaser\nDive into the fascinating legacy of New England brewing with acclaimed beer expert Gregg Glaser\, as he presents the “History of Beer in New England” — a captivating journey through centuries of hops\, heritage\, and craftsmanship.  \n\n \nGuests will enjoy a curated tasting of regional craft beers perfectly paired with mouthwatering BBQ bites\, including pulled pork sliders\, chicken\, coleslaw\, and corn salad. \n\n \n“Summer Beer Tasting & BBQ Bites” is more than just an evening of delicious brews and savory bites — it’s a celebration of New England tradition and the stories that shape our community. \n\n \nDon’t miss this perfect blend of education\, history\, and great beer! All guests must be 21 years or older to attend. IDs will be checked at the door. \nTicketsSecure your tickets now and be part of this one-of-a-kind event in Norwalk! \nTickets: Purchase online by scanning the QR code here or visit this link. \nNet proceeds benefit the Norwalk Historical Society’s education programs and exhibitions. The Norwalk Historical Society is a 501(c)(3) non-profit organization.
URL:https://norwalkhistoricalsociety.org/event/summer-beer-tasting-bbq-bites/
END:VEVENT
END:VCALENDAR