BEGIN:VCALENDAR
VERSION:2.0
PRODID:-//Norwalk Historical Society Museum  - ECPv6.15.20//NONSGML v1.0//EN
CALSCALE:GREGORIAN
METHOD:PUBLISH
X-ORIGINAL-URL:https://norwalkhistoricalsociety.org
X-WR-CALDESC:Events for Norwalk Historical Society Museum 
REFRESH-INTERVAL;VALUE=DURATION:PT1H
X-Robots-Tag:noindex
X-PUBLISHED-TTL:PT1H
BEGIN:VTIMEZONE
TZID:America/New_York
BEGIN:DAYLIGHT
TZOFFSETFROM:-0500
TZOFFSETTO:-0400
TZNAME:EDT
DTSTART:20200308T070000
END:DAYLIGHT
BEGIN:STANDARD
TZOFFSETFROM:-0400
TZOFFSETTO:-0500
TZNAME:EST
DTSTART:20201101T060000
END:STANDARD
BEGIN:DAYLIGHT
TZOFFSETFROM:-0500
TZOFFSETTO:-0400
TZNAME:EDT
DTSTART:20210314T070000
END:DAYLIGHT
BEGIN:STANDARD
TZOFFSETFROM:-0400
TZOFFSETTO:-0500
TZNAME:EST
DTSTART:20211107T060000
END:STANDARD
BEGIN:DAYLIGHT
TZOFFSETFROM:-0500
TZOFFSETTO:-0400
TZNAME:EDT
DTSTART:20220313T070000
END:DAYLIGHT
BEGIN:STANDARD
TZOFFSETFROM:-0400
TZOFFSETTO:-0500
TZNAME:EST
DTSTART:20221106T060000
END:STANDARD
END:VTIMEZONE
BEGIN:VEVENT
DTSTART;TZID=America/New_York:20211209T200000
DTEND;TZID=America/New_York:20211209T210000
DTSTAMP:20260421T050139
CREATED:20211208T063905Z
LAST-MODIFIED:20211208T070953Z
UID:10000078-1639080000-1639083600@norwalkhistoricalsociety.org
SUMMARY:Native American Archaeology of the Norwalk Area
DESCRIPTION:[cmsmasters_row data_width=”boxed” data_padding_left=”3″ data_padding_right=”3″ data_top_style=”default” data_bot_style=”default” data_color=”default” data_bg_position=”top center” data_bg_repeat=”no-repeat” data_bg_attachment=”scroll” data_bg_size=”cover” data_bg_parallax_ratio=”0.5″ data_padding_top=”0″ data_padding_bottom=”50″ data_padding_top_large=”0″ data_padding_bottom_large=”0″ data_padding_top_laptop=”0″ data_padding_bottom_laptop=”0″ data_padding_top_tablet=”0″ data_padding_bottom_tablet=”0″ data_padding_top_mobile_h=”0″ data_padding_bottom_mobile_h=”0″ data_padding_top_mobile_v=”0″ data_padding_bottom_mobile_v=”0″ data_shortcode_id=”w99kbbig0g”][cmsmasters_column data_width=”1/1″ data_bg_position=”top center” data_bg_repeat=”no-repeat” data_bg_attachment=”scroll” data_bg_size=”cover” data_border_style=”default” data_animation_delay=”0″ data_shortcode_id=”rf14sb2vnr”][cmsmasters_text shortcode_id=”fjd7r7yj45″ animation_delay=”0″] \nAbout this event\nJoin the Norwalk Historical Society for the in person lecture\, “From the Ice Age to the Founding of Norwalk: Native American Archaeology of the Norwalk Area\,” with guest presenter Ernest A. Wiegand\, professor of archaeology at NCC\, on Thursday\, December 9\, 2021 at 8:00pm in the old town meetinghouse at Mill Hill Historic Park\, 2 East Wall Street in Norwalk\, CT.\nRegistration Required! Free event but please consider making a donation to the Norwalk Historical Society.\nPlease Note: All visitors will be required to wear masks regardless of vaccination status when inside the Mill Hill Historic Park buildings. The buildings at Mill Hill Historic Park are City of Norwalk property and masks are required inside all City of Norwalk buildings. \nThis presentation will bring the audience back in time and reveal what archaeology has found about the history and cultural lifeways of the First Americans. Archaeological digs conducted in and around Norwalk will be discussed. Artifacts from local digs will accompany the program\, and the audience is encouraged to bring artifacts that they may have found on the beach\, along rivers and streams or while digging in the garden. \nTwelve thousand years ago\, southern New England had emerged from a covering of glacial ice. In this cold climate\, an environment far different than the present existed. Ice age animals such as the mammoth\, mastodon and caribou roamed the newly-deglaciated land\, as did the first Native Americans to enter the Northeast. The way of life of these early peoples\, and the adaptations their descendants made as the environment continued to change\, have been the focus of much interest and archaeological research for several decades. \nThis program is in conjunction with the Norwalk Historical Society’s new exhibit\, “Norwalk’s Changing Communities – 13\,000BC – 1835”\, which was funded in part by grants from Connecticut Humanities and the City of Norwalk Historical Commission. The new exhibit will be on view! \nMill Hill Historic Park is located at 2 East Wall Street in Norwalk\, CT. Handicapped and limited mobility parking on site. General parking is at the HSC building on the corner of East Wall Street and Park Street. Follow blue parking signs. \nAbout the Presenter\nErnie Wiegand has taught at Norwalk Community College since 1975\, when the college’s unique “Archaeology as an Avocation” certificate program was initiated. Students in the program have worked on many pre-contact period Native American sites as well as several historic period sites\, including the Rogers-Ritch-Merritt house in Norwalk. He received a Masters degree in anthropology from Hunter College in 1982 and has been the Archaeology as an Avocation program coordinator since 1990. In addition to his teaching duties\, he has been the faculty advisor to the NCC Archaeology Club\, which has not only conducted archaeological investigations of local sites but has brought archaeology to the public through its program meetings (which are open to the public) and special community outreach projects. He also serves as a consultant for both public and private land-use projects that may have an impact on archaeological sites. \n  \nNorwalk Historical Society Museum Visitor Guidelines\nThe health and safety of our visitors\, volunteers\, and staff are our highest priority. Therefore\, we continue to implement the State of Connecticut’s regulations\, CDC guidelines\, and industry standards for best museum practices during the ongoing pandemic with the following rules and measures established for your visit. \nMasks:\n\nAll visitors will be required to wear masks regardless of vaccination status when inside the Mill Hill Historic Park buildings. The buildings at Mill Hill Historic Park are City of Norwalk property and masks are required inside all City of Norwalk buildings.\nIf you have a medical condition that keeps you from wearing a mask\, we ask you to please visit at a later date when it is deemed safe for visitors not to wear a mask.\nIf you do not have a mask available\, or your mask is deemed ineffective\, the Norwalk Historical Society will make a disposable mask available to you.\n\nSocial Distancing:\n\nSocial distancing shall be required for all staff\, volunteers and visitors. Social distancing means keeping 6 feet apart from guests\, docents\, and staff at all times during your visit.\nBathrooms will accommodate 1 person at any given time.\n\nSanitizing:\n\nThe Norwalk Historical Society will make hand sanitizer available at entrances\, exits and common areas.\nWe are taking precautions in cleaning common areas with EPA approved cleaning products. Sanitary wipes and trash cans will be available in the restrooms to avoid direct contact on commonly used surfaces.\nAll visitors will have to agree to these regulations before entering Mill Hill Historic Park buildings.\n\n[/cmsmasters_text][/cmsmasters_column][/cmsmasters_row]
URL:https://norwalkhistoricalsociety.org/event/native-american-archaeology-of-the-norwalk-area/
LOCATION:Mill Hill Historic Park\, 2 East Wall Street\, Norwalk\, CT\, 06851\, United States
CATEGORIES:Lectures
ATTACH;FMTTYPE=image/jpeg:https://norwalkhistoricalsociety.org/wp-content/uploads/2021/12/https-_cdn.evbuc_.com_images_190776299_4443502298_1_original.20211123-153412.jpg
ORGANIZER;CN="Norwalk Historical Society":MAILTO:info@norwalkhistoricalsociety.org
GEO:41.1176338;-73.409666
X-APPLE-STRUCTURED-LOCATION;VALUE=URI;X-ADDRESS=Mill Hill Historic Park 2 East Wall Street Norwalk CT 06851 United States;X-APPLE-RADIUS=500;X-TITLE=2 East Wall Street:geo:-73.409666,41.1176338
END:VEVENT
END:VCALENDAR