BEGIN:VCALENDAR
VERSION:2.0
PRODID:-//Norwalk Historical Society Museum  - ECPv6.15.20//NONSGML v1.0//EN
CALSCALE:GREGORIAN
METHOD:PUBLISH
X-ORIGINAL-URL:https://norwalkhistoricalsociety.org
X-WR-CALDESC:Events for Norwalk Historical Society Museum 
REFRESH-INTERVAL;VALUE=DURATION:PT1H
X-Robots-Tag:noindex
X-PUBLISHED-TTL:PT1H
BEGIN:VTIMEZONE
TZID:America/New_York
BEGIN:DAYLIGHT
TZOFFSETFROM:-0500
TZOFFSETTO:-0400
TZNAME:EDT
DTSTART:20240310T070000
END:DAYLIGHT
BEGIN:STANDARD
TZOFFSETFROM:-0400
TZOFFSETTO:-0500
TZNAME:EST
DTSTART:20241103T060000
END:STANDARD
BEGIN:DAYLIGHT
TZOFFSETFROM:-0500
TZOFFSETTO:-0400
TZNAME:EDT
DTSTART:20250309T070000
END:DAYLIGHT
BEGIN:STANDARD
TZOFFSETFROM:-0400
TZOFFSETTO:-0500
TZNAME:EST
DTSTART:20251102T060000
END:STANDARD
BEGIN:DAYLIGHT
TZOFFSETFROM:-0500
TZOFFSETTO:-0400
TZNAME:EDT
DTSTART:20260308T070000
END:DAYLIGHT
BEGIN:STANDARD
TZOFFSETFROM:-0400
TZOFFSETTO:-0500
TZNAME:EST
DTSTART:20261101T060000
END:STANDARD
END:VTIMEZONE
BEGIN:VEVENT
DTSTART;TZID=America/New_York:20250720T140000
DTEND;TZID=America/New_York:20250720T160000
DTSTAMP:20260421T112658
CREATED:20250714T175742Z
LAST-MODIFIED:20250714T180642Z
UID:10001887-1753020000-1753027200@norwalkhistoricalsociety.org
SUMMARY:We Fought at Gettysburg: Program and Book Signing with Carolyn Ivanoff 
DESCRIPTION:We Fought at Gettysburg: \nProgram and Book Signing with Carolyn Ivanoff  \n \n Sunday\, July 20th\, 2:00-4:00pm \nMill Hill Historic Park\, 2 East Wall Street \nHear the stories of the men of Fairfield County and Norwalk at GettysburgCome join the Norwalk Historical Society at Mill Hill Historic Park for an exciting event featuring a talk by renowned author\, Carolyn Ivanoff. Learn about the soldiers of the 17th Connecticut\, the Fairfield County Regiment\, through the Gettysburg campaign in June and July 1863. \nThis was a pivotal moment in American history. They describe what they saw\, thought\, and felt on the battlefield. These are the words of those who lived through the trauma of combat and survived to write about it. Reserve your spot now! \nBooks will be available for purchaseAttendees will have the opportunity to purchase the book and have it signed by the author. Light refreshments will be served following the presentation. \nDon’t miss this chance to connect with Connecticut’s Civil War history and honor the local heroes who marched into one of the defining moments of the American story. \n \nAbout Carolyn IvanoffCarolyn Ivanoff is a retired high school administrator\, author\, and independent historian specializing in 19th-century American history\, with a focus on the Civil War and Connecticut’s historical legacy. \nNamed the American Battlefield Trust’s Teacher of the Year in 2003\, she has received multiple Awards of Merit from the Connecticut League of History Organizations for her educational and preservation work\, including the 2018 rededication of the 17th Connecticut Flagpole at Gettysburg.
URL:https://norwalkhistoricalsociety.org/event/we-fought-at-gettysburg-program-and-book-signing-with-carolyn-ivanoff/
END:VEVENT
END:VCALENDAR