BEGIN:VCALENDAR
VERSION:2.0
PRODID:-//Norwalk Historical Society Museum  - ECPv6.15.20//NONSGML v1.0//EN
CALSCALE:GREGORIAN
METHOD:PUBLISH
X-ORIGINAL-URL:https://norwalkhistoricalsociety.org
X-WR-CALDESC:Events for Norwalk Historical Society Museum 
REFRESH-INTERVAL;VALUE=DURATION:PT1H
X-Robots-Tag:noindex
X-PUBLISHED-TTL:PT1H
BEGIN:VTIMEZONE
TZID:America/New_York
BEGIN:DAYLIGHT
TZOFFSETFROM:-0500
TZOFFSETTO:-0400
TZNAME:EDT
DTSTART:20240310T070000
END:DAYLIGHT
BEGIN:STANDARD
TZOFFSETFROM:-0400
TZOFFSETTO:-0500
TZNAME:EST
DTSTART:20241103T060000
END:STANDARD
BEGIN:DAYLIGHT
TZOFFSETFROM:-0500
TZOFFSETTO:-0400
TZNAME:EDT
DTSTART:20250309T070000
END:DAYLIGHT
BEGIN:STANDARD
TZOFFSETFROM:-0400
TZOFFSETTO:-0500
TZNAME:EST
DTSTART:20251102T060000
END:STANDARD
BEGIN:DAYLIGHT
TZOFFSETFROM:-0500
TZOFFSETTO:-0400
TZNAME:EDT
DTSTART:20260308T070000
END:DAYLIGHT
BEGIN:STANDARD
TZOFFSETFROM:-0400
TZOFFSETTO:-0500
TZNAME:EST
DTSTART:20261101T060000
END:STANDARD
END:VTIMEZONE
BEGIN:VEVENT
DTSTART;TZID=America/New_York:20250918T183000
DTEND;TZID=America/New_York:20250918T200000
DTSTAMP:20260421T111258
CREATED:20250915T214234Z
LAST-MODIFIED:20250915T222836Z
UID:10001889-1758220200-1758225600@norwalkhistoricalsociety.org
SUMMARY:A Night at the Museum with “Cooked Up”
DESCRIPTION:A Night at the Museum with  \n“Cooked Up” \nThursday\, Sept. 18th\, 6:30-8:00pmNHS Museum\, 141 East Ave.\, Norwalk \n \n \n \n \n \n 		\n																														\n		\n \n \nScan the QR code to reserve your spot\nJoin the Norwalk Historical Society for a Night at the Museum\, rocking out with the “Cooked Up” band! \n \n \n \n \n \n \nOn Thursday\, September 18\, 2025\, 6:30-8:00 pm in the beautiful gardens at the Norwalk Historical Society Museum\, 141 East Avenue\, Norwalk\, CT. Special guests Warren McGuire\, guitar and David Lindsay\, drums. \n \n \nListen to deep tracks from Alt to Americana • Classic to New Wave • Punk to Pop • 60s to Today. Presented by Building Community through Music. Bring a picnic\, lawn chair\, or blanket and enjoy this FREE event. \n \n \nMuseum entrance and free parking on the Norwalk City Hall campus parking area\, City Hall Drive\, Norwalk\, CT. Located next to the Norwalk Health Department. \n \n \nThank you to our sponsors: Tuliptree Site Design and Building Community through Music. \n \n \nThe Norwalk Historical Society is a 501(c)(3) non-profit organization.
URL:https://norwalkhistoricalsociety.org/event/a-night-at-the-museum-with-cooked-up/
LOCATION:Norwalk Historical Society Museum\, 141 East Avenue\, Norwalk\, CT\, 141 East Avenue\, Norwalk\, Connecticut\, 06851\, United States
END:VEVENT
END:VCALENDAR