BEGIN:VCALENDAR
VERSION:2.0
PRODID:-//Norwalk Historical Society Museum  - ECPv6.15.20//NONSGML v1.0//EN
CALSCALE:GREGORIAN
METHOD:PUBLISH
X-WR-CALNAME:Norwalk Historical Society Museum 
X-ORIGINAL-URL:https://norwalkhistoricalsociety.org
X-WR-CALDESC:Events for Norwalk Historical Society Museum 
REFRESH-INTERVAL;VALUE=DURATION:PT1H
X-Robots-Tag:noindex
X-PUBLISHED-TTL:PT1H
BEGIN:VTIMEZONE
TZID:America/New_York
BEGIN:DAYLIGHT
TZOFFSETFROM:-0500
TZOFFSETTO:-0400
TZNAME:EDT
DTSTART:20240310T070000
END:DAYLIGHT
BEGIN:STANDARD
TZOFFSETFROM:-0400
TZOFFSETTO:-0500
TZNAME:EST
DTSTART:20241103T060000
END:STANDARD
BEGIN:DAYLIGHT
TZOFFSETFROM:-0500
TZOFFSETTO:-0400
TZNAME:EDT
DTSTART:20250309T070000
END:DAYLIGHT
BEGIN:STANDARD
TZOFFSETFROM:-0400
TZOFFSETTO:-0500
TZNAME:EST
DTSTART:20251102T060000
END:STANDARD
BEGIN:DAYLIGHT
TZOFFSETFROM:-0500
TZOFFSETTO:-0400
TZNAME:EDT
DTSTART:20260308T070000
END:DAYLIGHT
BEGIN:STANDARD
TZOFFSETFROM:-0400
TZOFFSETTO:-0500
TZNAME:EST
DTSTART:20261101T060000
END:STANDARD
END:VTIMEZONE
BEGIN:VEVENT
DTSTART;TZID=America/New_York:20251109T140000
DTEND;TZID=America/New_York:20251109T153000
DTSTAMP:20260421T055153
CREATED:20251101T001822Z
LAST-MODIFIED:20251101T001855Z
UID:10001892-1762696800-1762702200@norwalkhistoricalsociety.org
SUMMARY:Lecture - The Militia’s History and Evolution into the National Guard
DESCRIPTION:Lecture with historian Mark Albertson:  \nThe Militia’s History and Evolution into the National Guard  \nSunday\, November 9 at 2:00pmNorwalk Town House\, 2 E. Wall Street\, Norwalk 		\n												\n											\n															\n											The Battle of Lexington by William Barnes Wollen\, 1910\n										\n					\n									Reserve a Seat \n					\n		The Norwalk Historical Society presents an insightful lecture with historian Mark Albertson titled “The Militia’s History and Evolution into the National Guard.” \n   Scan to reserve\nAlbertson will delve into the evolution of America’s citizen-soldier tradition\, tracing its roots from the British colonial era through the Seven Years’ War\, the Revolution\, and the creation of the United States Constitution. His talk will illuminate how early experiences and fears of standing armies influenced the Founders’ decision to establish a militia system under state control. This idea endures in today’s National Guard. \nThis is a free event. Click the button or scan the QR code to reserve a seat. \n \n\n \nAbout Mark AlbertsonMark Albertson is a historian and educator specializing in American military and constitutional development. His research draws from both academic and military sources\, offering an accessible yet scholarly perspective on the roots of the U.S. defense system. \nHe is the historical research editor at Army Aviation magazine in Monroe\, Connecticut\, and the historian for the Army Aviation Association of America. Albertson has authored several books: USS Connecticut: Constitution State Battleship; They’ll Have to Follow You! The Triumph of the Great White Fleet; On History: A Treatise. He is at work on a two-volume history of Army Aviation\, Sky Soldiers: The Saga of Army Aviation. He has also published articles in a variety of newspapers and magazines.
URL:https://norwalkhistoricalsociety.org/event/lecture-the-militias-history-and-evolution-into-the-national-guard/
END:VEVENT
END:VCALENDAR