BEGIN:VCALENDAR
VERSION:2.0
PRODID:-//Norwalk Historical Society Museum  - ECPv6.15.20//NONSGML v1.0//EN
CALSCALE:GREGORIAN
METHOD:PUBLISH
X-ORIGINAL-URL:https://norwalkhistoricalsociety.org
X-WR-CALDESC:Events for Norwalk Historical Society Museum 
REFRESH-INTERVAL;VALUE=DURATION:PT1H
X-Robots-Tag:noindex
X-PUBLISHED-TTL:PT1H
BEGIN:VTIMEZONE
TZID:America/New_York
BEGIN:DAYLIGHT
TZOFFSETFROM:-0500
TZOFFSETTO:-0400
TZNAME:EDT
DTSTART:20220313T070000
END:DAYLIGHT
BEGIN:STANDARD
TZOFFSETFROM:-0400
TZOFFSETTO:-0500
TZNAME:EST
DTSTART:20221106T060000
END:STANDARD
BEGIN:DAYLIGHT
TZOFFSETFROM:-0500
TZOFFSETTO:-0400
TZNAME:EDT
DTSTART:20230312T070000
END:DAYLIGHT
BEGIN:STANDARD
TZOFFSETFROM:-0400
TZOFFSETTO:-0500
TZNAME:EST
DTSTART:20231105T060000
END:STANDARD
BEGIN:DAYLIGHT
TZOFFSETFROM:-0500
TZOFFSETTO:-0400
TZNAME:EDT
DTSTART:20240310T070000
END:DAYLIGHT
BEGIN:STANDARD
TZOFFSETFROM:-0400
TZOFFSETTO:-0500
TZNAME:EST
DTSTART:20241103T060000
END:STANDARD
END:VTIMEZONE
BEGIN:VEVENT
DTSTART;TZID=America/New_York:20231028T213000
DTEND;TZID=America/New_York:20231028T233000
DTSTAMP:20260421T090833
CREATED:20231013T234221Z
LAST-MODIFIED:20231013T234247Z
UID:10000640-1698528600-1698535800@norwalkhistoricalsociety.org
SUMMARY:Halloween Movie Nights…a Blast From the Past!
DESCRIPTION:Young Frankenstein \n\n\n\nFriday\, 10/27/2023 andSaturday\, 10/28/2023Time: 7:00pmRated PGAdmission: $10 \n\n\n\n\n\nThe Rocky Horror Picture Show \n\n\n\nSaturday\, 10/28/2023Time: 9:30pmRated RAdmission: $15 \n\n\n\n\n\n\n\n\n\nOn Friday\, October 27th & Saturday\, October 28th\, the Norwalk Historical Society invites you to Halloween Movie Nights at the Town House Museum at Mill Hill Historic Park\, 2 East Wall Street\, Norwalk. \n\n\n\nTicket price includes:  • Halloween snack treat package & soft drink/bottled water • For Rocky Horror\, interactive props will be supplied.* \n\n\n\n*No personal props will be allowed in the Town House Museum. \n\n\n\nTickets will be soon be available online – stay tuned for link!
URL:https://norwalkhistoricalsociety.org/event/halloween-movie-nightsa-blast-from-the-past-2/
LOCATION:Mill Hill Historic Park\, 2 East Wall Street\, Norwalk\, CT\, 06851\, United States
END:VEVENT
END:VCALENDAR